BEGIN:VCALENDAR
VERSION:2.0
PRODID:-//Wenatchee Valley Fly Fishers - ECPv6.15.20//NONSGML v1.0//EN
CALSCALE:GREGORIAN
METHOD:PUBLISH
X-WR-CALNAME:Wenatchee Valley Fly Fishers
X-ORIGINAL-URL:https://wenatcheevalleyflyfishers.com
X-WR-CALDESC:Events for Wenatchee Valley Fly Fishers
REFRESH-INTERVAL;VALUE=DURATION:PT1H
X-Robots-Tag:noindex
X-PUBLISHED-TTL:PT1H
BEGIN:VTIMEZONE
TZID:America/Los_Angeles
BEGIN:DAYLIGHT
TZOFFSETFROM:-0800
TZOFFSETTO:-0700
TZNAME:PDT
DTSTART:20240310T100000
END:DAYLIGHT
BEGIN:STANDARD
TZOFFSETFROM:-0700
TZOFFSETTO:-0800
TZNAME:PST
DTSTART:20241103T090000
END:STANDARD
BEGIN:DAYLIGHT
TZOFFSETFROM:-0800
TZOFFSETTO:-0700
TZNAME:PDT
DTSTART:20250309T100000
END:DAYLIGHT
BEGIN:STANDARD
TZOFFSETFROM:-0700
TZOFFSETTO:-0800
TZNAME:PST
DTSTART:20251102T090000
END:STANDARD
BEGIN:DAYLIGHT
TZOFFSETFROM:-0800
TZOFFSETTO:-0700
TZNAME:PDT
DTSTART:20260308T100000
END:DAYLIGHT
BEGIN:STANDARD
TZOFFSETFROM:-0700
TZOFFSETTO:-0800
TZNAME:PST
DTSTART:20261101T090000
END:STANDARD
END:VTIMEZONE
BEGIN:VEVENT
DTSTART;TZID=America/Los_Angeles:20250427T080000
DTEND;TZID=America/Los_Angeles:20250427T170000
DTSTAMP:20260423T135802
CREATED:20250207T202327Z
LAST-MODIFIED:20250207T202327Z
UID:18947-1745740800-1745773200@wenatcheevalleyflyfishers.com
SUMMARY:FFI Fly Casting & Tying Fair
DESCRIPTION:FFI (WA Chapter) Fly Casting & Tying Fair @ Pickering Red Barn Park\, Issaquah\, WA \nFly Casting Classes available (all levels)/Fly Tying; Google FFI Washington Chapter for more details.
URL:https://wenatcheevalleyflyfishers.com/event/ffi-fly-casting-tying-fair/
CATEGORIES:Fly Fishing Show,Fly Tying Session
END:VEVENT
END:VCALENDAR