BEGIN:VCALENDAR
VERSION:2.0
PRODID:-//Wenatchee Valley Fly Fishers - ECPv6.15.20//NONSGML v1.0//EN
CALSCALE:GREGORIAN
METHOD:PUBLISH
X-WR-CALNAME:Wenatchee Valley Fly Fishers
X-ORIGINAL-URL:https://wenatcheevalleyflyfishers.com
X-WR-CALDESC:Events for Wenatchee Valley Fly Fishers
REFRESH-INTERVAL;VALUE=DURATION:PT1H
X-Robots-Tag:noindex
X-PUBLISHED-TTL:PT1H
BEGIN:VTIMEZONE
TZID:America/Los_Angeles
BEGIN:DAYLIGHT
TZOFFSETFROM:-0800
TZOFFSETTO:-0700
TZNAME:PDT
DTSTART:20250309T100000
END:DAYLIGHT
BEGIN:STANDARD
TZOFFSETFROM:-0700
TZOFFSETTO:-0800
TZNAME:PST
DTSTART:20251102T090000
END:STANDARD
BEGIN:DAYLIGHT
TZOFFSETFROM:-0800
TZOFFSETTO:-0700
TZNAME:PDT
DTSTART:20260308T100000
END:DAYLIGHT
BEGIN:STANDARD
TZOFFSETFROM:-0700
TZOFFSETTO:-0800
TZNAME:PST
DTSTART:20261101T090000
END:STANDARD
BEGIN:DAYLIGHT
TZOFFSETFROM:-0800
TZOFFSETTO:-0700
TZNAME:PDT
DTSTART:20270314T100000
END:DAYLIGHT
BEGIN:STANDARD
TZOFFSETFROM:-0700
TZOFFSETTO:-0800
TZNAME:PST
DTSTART:20271107T090000
END:STANDARD
BEGIN:DAYLIGHT
TZOFFSETFROM:-0800
TZOFFSETTO:-0700
TZNAME:PDT
DTSTART:20280312T100000
END:DAYLIGHT
BEGIN:STANDARD
TZOFFSETFROM:-0700
TZOFFSETTO:-0800
TZNAME:PST
DTSTART:20281105T090000
END:STANDARD
END:VTIMEZONE
BEGIN:VEVENT
DTSTART;TZID=America/Los_Angeles:20261015T180000
DTEND;TZID=America/Los_Angeles:20261015T210000
DTSTAMP:20260423T163228
CREATED:20260119T030020Z
LAST-MODIFIED:20260119T030020Z
UID:19222-1792087200-1792098000@wenatcheevalleyflyfishers.com
SUMMARY:Members Meeting
DESCRIPTION:WVFF Members Meeting \nDate: Oct 15th\, 2026 \nLocation: Bobs Burgers and Brews in East Wenatchee \nTime: 6pm
URL:https://wenatcheevalleyflyfishers.com/event/members-meeting-8/
END:VEVENT
BEGIN:VEVENT
DTSTART;TZID=America/Los_Angeles:20261119T180000
DTEND;TZID=America/Los_Angeles:20261119T210000
DTSTAMP:20260423T163228
CREATED:20260119T030301Z
LAST-MODIFIED:20260119T030301Z
UID:19224-1795111200-1795122000@wenatcheevalleyflyfishers.com
SUMMARY:Members Meeting
DESCRIPTION:WVFF Members Meeting \nDate: Nov 19th 2026 \nLocation: Bobs Burgers and Brews in East Wenatchee \nTime: 6pm
URL:https://wenatcheevalleyflyfishers.com/event/members-meeting-9/
END:VEVENT
BEGIN:VEVENT
DTSTART;TZID=America/Los_Angeles:20261217T180000
DTEND;TZID=America/Los_Angeles:20261217T210000
DTSTAMP:20260423T163228
CREATED:20260119T030532Z
LAST-MODIFIED:20260119T030532Z
UID:19226-1797530400-1797541200@wenatcheevalleyflyfishers.com
SUMMARY:Members Meeting
DESCRIPTION:WVFF Members Meeting \nDate: Dec 17th\, 2026 \nLocation: Bobs Burgers and Brews in East Wenatchee \nTime: 6pm \nPresentation: We are the presenters! Merry Fishmas
URL:https://wenatcheevalleyflyfishers.com/event/members-meeting-10/
CATEGORIES:General Meetings
END:VEVENT
BEGIN:VEVENT
DTSTART;TZID=America/Los_Angeles:20270116T160000
DTEND;TZID=America/Los_Angeles:20270116T210000
DTSTAMP:20260423T163228
CREATED:20260119T030823Z
LAST-MODIFIED:20260119T030823Z
UID:19228-1800115200-1800133200@wenatcheevalleyflyfishers.com
SUMMARY:WVFF Banquet and Auction
DESCRIPTION:WVFF Annual Banquet and Auction \nDate: Jan 16th\, 2027
URL:https://wenatcheevalleyflyfishers.com/event/wvff-banquet-and-auction/
END:VEVENT
END:VCALENDAR