BEGIN:VCALENDAR
VERSION:2.0
PRODID:-//Wenatchee Valley Fly Fishers - ECPv6.15.20//NONSGML v1.0//EN
CALSCALE:GREGORIAN
METHOD:PUBLISH
X-ORIGINAL-URL:https://wenatcheevalleyflyfishers.com
X-WR-CALDESC:Events for Wenatchee Valley Fly Fishers
REFRESH-INTERVAL;VALUE=DURATION:PT1H
X-Robots-Tag:noindex
X-PUBLISHED-TTL:PT1H
BEGIN:VTIMEZONE
TZID:America/Los_Angeles
BEGIN:DAYLIGHT
TZOFFSETFROM:-0800
TZOFFSETTO:-0700
TZNAME:PDT
DTSTART:20250309T100000
END:DAYLIGHT
BEGIN:STANDARD
TZOFFSETFROM:-0700
TZOFFSETTO:-0800
TZNAME:PST
DTSTART:20251102T090000
END:STANDARD
BEGIN:DAYLIGHT
TZOFFSETFROM:-0800
TZOFFSETTO:-0700
TZNAME:PDT
DTSTART:20260308T100000
END:DAYLIGHT
BEGIN:STANDARD
TZOFFSETFROM:-0700
TZOFFSETTO:-0800
TZNAME:PST
DTSTART:20261101T090000
END:STANDARD
BEGIN:DAYLIGHT
TZOFFSETFROM:-0800
TZOFFSETTO:-0700
TZNAME:PDT
DTSTART:20270314T100000
END:DAYLIGHT
BEGIN:STANDARD
TZOFFSETFROM:-0700
TZOFFSETTO:-0800
TZNAME:PST
DTSTART:20271107T090000
END:STANDARD
BEGIN:DAYLIGHT
TZOFFSETFROM:-0800
TZOFFSETTO:-0700
TZNAME:PDT
DTSTART:20280312T100000
END:DAYLIGHT
BEGIN:STANDARD
TZOFFSETFROM:-0700
TZOFFSETTO:-0800
TZNAME:PST
DTSTART:20281105T090000
END:STANDARD
END:VTIMEZONE
BEGIN:VEVENT
DTSTART;TZID=America/Los_Angeles:20260117T180000
DTEND;TZID=America/Los_Angeles:20260117T210000
DTSTAMP:20260423T163459
CREATED:20251009T021525Z
LAST-MODIFIED:20251009T021744Z
UID:19150-1768672800-1768683600@wenatcheevalleyflyfishers.com
SUMMARY:WVFF Annual Banquet and Fundraiser
DESCRIPTION:Annual Banquet \nWhere: Wenatchee Convention Center \nWhen: January 17th \nWhen: 6 to 9pm
URL:https://wenatcheevalleyflyfishers.com/event/wvff-annual-banquet-and-fundraiser/
END:VEVENT
BEGIN:VEVENT
DTSTART;TZID=America/Los_Angeles:20260219T180000
DTEND;TZID=America/Los_Angeles:20260219T210000
DTSTAMP:20260423T163459
CREATED:20260119T022308Z
LAST-MODIFIED:20260119T022308Z
UID:19210-1771524000-1771534800@wenatcheevalleyflyfishers.com
SUMMARY:Members Meeting
DESCRIPTION:WVFF Members Meeting \nLocation: Bobs Burgers and Brews in East Wenatchee \nDate: Feb 19th 2026 \nTime: 6pm \nPresenters: Biologists Ryan Fortier\, Mick Schmuck\, and Travis Maitland
URL:https://wenatcheevalleyflyfishers.com/event/members-meeting-3/
END:VEVENT
BEGIN:VEVENT
DTSTART;TZID=America/Los_Angeles:20260319T180000
DTEND;TZID=America/Los_Angeles:20260319T210000
DTSTAMP:20260423T163459
CREATED:20260119T024844Z
LAST-MODIFIED:20260119T024844Z
UID:19214-1773943200-1773954000@wenatcheevalleyflyfishers.com
SUMMARY:Members Meeting
DESCRIPTION:WVFF Members Meeting \nDate: March 19th\, 2026 \nLocation: Bobs Burgers and Brews in East Wenatchee \nTime: 6pm
URL:https://wenatcheevalleyflyfishers.com/event/members-meeting-4/
END:VEVENT
BEGIN:VEVENT
DTSTART;TZID=America/Los_Angeles:20260416T180000
DTEND;TZID=America/Los_Angeles:20260416T210000
DTSTAMP:20260423T163459
CREATED:20260119T025211Z
LAST-MODIFIED:20260119T025211Z
UID:19216-1776362400-1776373200@wenatcheevalleyflyfishers.com
SUMMARY:Members Meeting
DESCRIPTION:WVFF Members Meeting \nDate: April 16th\, 2026 \nLocation: Bobs Burgers and Brews in East Wenatchee \nTime: 6pm
URL:https://wenatcheevalleyflyfishers.com/event/members-meeting-5/
END:VEVENT
BEGIN:VEVENT
DTSTART;TZID=America/Los_Angeles:20260521T180000
DTEND;TZID=America/Los_Angeles:20260521T210000
DTSTAMP:20260423T163459
CREATED:20260119T025540Z
LAST-MODIFIED:20260119T025540Z
UID:19218-1779386400-1779397200@wenatcheevalleyflyfishers.com
SUMMARY:Members Meeting
DESCRIPTION:WVFF Members Meeting \nDate: May 21st\, 2026 \nLocation: Bobs Burgers and Brews in East Wenatchee \nTime: 6pm
URL:https://wenatcheevalleyflyfishers.com/event/members-meeting-6/
END:VEVENT
BEGIN:VEVENT
DTSTART;TZID=America/Los_Angeles:20260620T100000
DTEND;TZID=America/Los_Angeles:20260620T160000
DTSTAMP:20260423T163459
CREATED:20260119T023545Z
LAST-MODIFIED:20260119T023545Z
UID:19212-1781949600-1781971200@wenatcheevalleyflyfishers.com
SUMMARY:WVFF Annual Picnic
DESCRIPTION:Picnic at Walla Walla Park at Shelter 2 \n10am to 4pm \nJune 20th
URL:https://wenatcheevalleyflyfishers.com/event/wvff-annual-picnic/
END:VEVENT
BEGIN:VEVENT
DTSTART;TZID=America/Los_Angeles:20260917T180000
DTEND;TZID=America/Los_Angeles:20260917T210000
DTSTAMP:20260423T163459
CREATED:20260119T025822Z
LAST-MODIFIED:20260119T025822Z
UID:19220-1789668000-1789678800@wenatcheevalleyflyfishers.com
SUMMARY:Members Meeting
DESCRIPTION:WVFF Members Meeting \nDate: Sept 17th\, 2026 \nLocation: Bobs Burgers and Brews in East Wenatchee \nTime: 6pm
URL:https://wenatcheevalleyflyfishers.com/event/members-meeting-7/
END:VEVENT
BEGIN:VEVENT
DTSTART;TZID=America/Los_Angeles:20261015T180000
DTEND;TZID=America/Los_Angeles:20261015T210000
DTSTAMP:20260423T163459
CREATED:20260119T030020Z
LAST-MODIFIED:20260119T030020Z
UID:19222-1792087200-1792098000@wenatcheevalleyflyfishers.com
SUMMARY:Members Meeting
DESCRIPTION:WVFF Members Meeting \nDate: Oct 15th\, 2026 \nLocation: Bobs Burgers and Brews in East Wenatchee \nTime: 6pm
URL:https://wenatcheevalleyflyfishers.com/event/members-meeting-8/
END:VEVENT
BEGIN:VEVENT
DTSTART;TZID=America/Los_Angeles:20261119T180000
DTEND;TZID=America/Los_Angeles:20261119T210000
DTSTAMP:20260423T163459
CREATED:20260119T030301Z
LAST-MODIFIED:20260119T030301Z
UID:19224-1795111200-1795122000@wenatcheevalleyflyfishers.com
SUMMARY:Members Meeting
DESCRIPTION:WVFF Members Meeting \nDate: Nov 19th 2026 \nLocation: Bobs Burgers and Brews in East Wenatchee \nTime: 6pm
URL:https://wenatcheevalleyflyfishers.com/event/members-meeting-9/
END:VEVENT
BEGIN:VEVENT
DTSTART;TZID=America/Los_Angeles:20261217T180000
DTEND;TZID=America/Los_Angeles:20261217T210000
DTSTAMP:20260423T163459
CREATED:20260119T030532Z
LAST-MODIFIED:20260119T030532Z
UID:19226-1797530400-1797541200@wenatcheevalleyflyfishers.com
SUMMARY:Members Meeting
DESCRIPTION:WVFF Members Meeting \nDate: Dec 17th\, 2026 \nLocation: Bobs Burgers and Brews in East Wenatchee \nTime: 6pm \nPresentation: We are the presenters! Merry Fishmas
URL:https://wenatcheevalleyflyfishers.com/event/members-meeting-10/
CATEGORIES:General Meetings
END:VEVENT
BEGIN:VEVENT
DTSTART;TZID=America/Los_Angeles:20270116T160000
DTEND;TZID=America/Los_Angeles:20270116T210000
DTSTAMP:20260423T163459
CREATED:20260119T030823Z
LAST-MODIFIED:20260119T030823Z
UID:19228-1800115200-1800133200@wenatcheevalleyflyfishers.com
SUMMARY:WVFF Banquet and Auction
DESCRIPTION:WVFF Annual Banquet and Auction \nDate: Jan 16th\, 2027
URL:https://wenatcheevalleyflyfishers.com/event/wvff-banquet-and-auction/
END:VEVENT
END:VCALENDAR