BEGIN:VCALENDAR
VERSION:2.0
PRODID:-//Wenatchee Valley Fly Fishers - ECPv6.15.20//NONSGML v1.0//EN
CALSCALE:GREGORIAN
METHOD:PUBLISH
X-WR-CALNAME:Wenatchee Valley Fly Fishers
X-ORIGINAL-URL:https://wenatcheevalleyflyfishers.com
X-WR-CALDESC:Events for Wenatchee Valley Fly Fishers
REFRESH-INTERVAL;VALUE=DURATION:PT1H
X-Robots-Tag:noindex
X-PUBLISHED-TTL:PT1H
BEGIN:VTIMEZONE
TZID:America/Los_Angeles
BEGIN:DAYLIGHT
TZOFFSETFROM:-0800
TZOFFSETTO:-0700
TZNAME:PDT
DTSTART:20240310T100000
END:DAYLIGHT
BEGIN:STANDARD
TZOFFSETFROM:-0700
TZOFFSETTO:-0800
TZNAME:PST
DTSTART:20241103T090000
END:STANDARD
BEGIN:DAYLIGHT
TZOFFSETFROM:-0800
TZOFFSETTO:-0700
TZNAME:PDT
DTSTART:20250309T100000
END:DAYLIGHT
BEGIN:STANDARD
TZOFFSETFROM:-0700
TZOFFSETTO:-0800
TZNAME:PST
DTSTART:20251102T090000
END:STANDARD
BEGIN:DAYLIGHT
TZOFFSETFROM:-0800
TZOFFSETTO:-0700
TZNAME:PDT
DTSTART:20260308T100000
END:DAYLIGHT
BEGIN:STANDARD
TZOFFSETFROM:-0700
TZOFFSETTO:-0800
TZNAME:PST
DTSTART:20261101T090000
END:STANDARD
END:VTIMEZONE
BEGIN:VEVENT
DTSTART;VALUE=DATE:20250517
DTEND;VALUE=DATE:20250518
DTSTAMP:20260423T152138
CREATED:20250225T034145Z
LAST-MODIFIED:20250421T162547Z
UID:18968-1747440000-1747526399@wenatcheevalleyflyfishers.com
SUMMARY:Beehive Outing
DESCRIPTION:Flyfishing Class Outing at Beehive Reservoir \nCome help out the flyfishing students as they put everything they’ve learned together. \n 
URL:https://wenatcheevalleyflyfishers.com/event/beehive-outing/
END:VEVENT
BEGIN:VEVENT
DTSTART;TZID=America/Los_Angeles:20250515T173000
DTEND;TZID=America/Los_Angeles:20250515T203000
DTSTAMP:20260423T152138
CREATED:20250421T162952Z
LAST-MODIFIED:20250421T162952Z
UID:19048-1747330200-1747341000@wenatcheevalleyflyfishers.com
SUMMARY:General Members Meeting
DESCRIPTION:Members Meeting \nWhere: Pinnacle Beerworks \nWhen: May 15th \nTime: 5:30 to 8:30 \nPresenting: Knots and Flies with a short presentation on Flyfishing Etiquette
URL:https://wenatcheevalleyflyfishers.com/event/general-members-meeting-2/
END:VEVENT
BEGIN:VEVENT
DTSTART;TZID=America/Los_Angeles:20250508T140000
DTEND;TZID=America/Los_Angeles:20250512T110000
DTSTAMP:20260423T152138
CREATED:20250225T033644Z
LAST-MODIFIED:20250326T040719Z
UID:18963-1746712800-1747047600@wenatcheevalleyflyfishers.com
SUMMARY:Big Twin Lake Outing
DESCRIPTION:Outing at Big Twin Lake in Winthrop \nClub Lunch provided on Saturday May 10th followed by a potluck Saturday evening.
URL:https://wenatcheevalleyflyfishers.com/event/big-twin-lake-outing/
END:VEVENT
BEGIN:VEVENT
DTSTART;TZID=America/Los_Angeles:20250427T080000
DTEND;TZID=America/Los_Angeles:20250427T170000
DTSTAMP:20260423T152138
CREATED:20250207T202327Z
LAST-MODIFIED:20250207T202327Z
UID:18947-1745740800-1745773200@wenatcheevalleyflyfishers.com
SUMMARY:FFI Fly Casting & Tying Fair
DESCRIPTION:FFI (WA Chapter) Fly Casting & Tying Fair @ Pickering Red Barn Park\, Issaquah\, WA \nFly Casting Classes available (all levels)/Fly Tying; Google FFI Washington Chapter for more details.
URL:https://wenatcheevalleyflyfishers.com/event/ffi-fly-casting-tying-fair/
CATEGORIES:Fly Fishing Show,Fly Tying Session
END:VEVENT
BEGIN:VEVENT
DTSTART;TZID=America/Los_Angeles:20250426T080000
DTEND;TZID=America/Los_Angeles:20250426T170000
DTSTAMP:20260423T152138
CREATED:20250225T033412Z
LAST-MODIFIED:20250421T162709Z
UID:18961-1745654400-1745686800@wenatcheevalleyflyfishers.com
SUMMARY:Blue Lake Sinlahekin Outing
DESCRIPTION:Outing at Blue Lake Sinlahekin \nThere will be a club provided lunch and a potluck dinner Saturday evening
URL:https://wenatcheevalleyflyfishers.com/event/blue-lake-sinlahekin-outing/
END:VEVENT
END:VCALENDAR